BEGIN:VCALENDAR
VERSION:2.0
PRODID:-//College of Arts &amp; Sciences - ECPv6.15.20//NONSGML v1.0//EN
CALSCALE:GREGORIAN
METHOD:PUBLISH
X-WR-CALNAME:College of Arts &amp; Sciences
X-ORIGINAL-URL:https://cas.uncg.edu
X-WR-CALDESC:Events for College of Arts &amp; Sciences
REFRESH-INTERVAL;VALUE=DURATION:PT1H
X-Robots-Tag:noindex
X-PUBLISHED-TTL:PT1H
BEGIN:VTIMEZONE
TZID:America/New_York
BEGIN:DAYLIGHT
TZOFFSETFROM:-0500
TZOFFSETTO:-0400
TZNAME:EDT
DTSTART:20250309T070000
END:DAYLIGHT
BEGIN:STANDARD
TZOFFSETFROM:-0400
TZOFFSETTO:-0500
TZNAME:EST
DTSTART:20251102T060000
END:STANDARD
BEGIN:DAYLIGHT
TZOFFSETFROM:-0500
TZOFFSETTO:-0400
TZNAME:EDT
DTSTART:20260308T070000
END:DAYLIGHT
BEGIN:STANDARD
TZOFFSETFROM:-0400
TZOFFSETTO:-0500
TZNAME:EST
DTSTART:20261101T060000
END:STANDARD
BEGIN:DAYLIGHT
TZOFFSETFROM:-0500
TZOFFSETTO:-0400
TZNAME:EDT
DTSTART:20270314T070000
END:DAYLIGHT
BEGIN:STANDARD
TZOFFSETFROM:-0400
TZOFFSETTO:-0500
TZNAME:EST
DTSTART:20271107T060000
END:STANDARD
END:VTIMEZONE
BEGIN:VEVENT
DTSTART;TZID=America/New_York:20260423T000000
DTEND;TZID=America/New_York:20260429T235959
DTSTAMP:20260421T165545
CREATED:20260406T145705Z
LAST-MODIFIED:20260413T155013Z
UID:10000710-1776902400-1777507199@cas.uncg.edu
SUMMARY:IARc Department Crit Week
DESCRIPTION:The Department of Interior Architecture at UNC Greensboro is happy to announce our Spring Crit Week schedule for 2026. \n\n\n\nThis public event is open to anyone in the UNCG and surrounding community to view our students’ work from this semester. Some studio courses will be presenting progress work and others will be presenting their final projects. \n\n\n\nPlease come as you are able to view and support our students’ hard work. \n\n\n\nSchedule\n\n\n\n\nThursday\, April 23: Gatewood Room 401\n\n9:00 a.m. – 1:00 p.m. IAR 102: Cameron John & Travis Hicks\n\n\n\n1:15 p.m. – 5:15 p.m.IAR 412: Nisha Prasad\n\n\n\n\n\nMonday\, April 27: Gatewood Room 401\n\n9:00 a.m. – 1:00 p.m. IAR 412: Stephen Skorski\n\n\n\n1:15 p.m. – 5:15 p.m.IAR 302: Asha Kutty\n\n\n\n\n\nTuesday\, April 28: Gatewood Room 401\n\n9:00 a.m. – 1:00 p.m. IAR 302: Amanda Gale\n\n\n\n1:15 p.m. – 5:15 p.m.IAR 202: Kate Horton\n\n\n\n\n\nWednesday\, April 29: Gatewood Room 313\n\n9:00 a.m. – 1:00 p.m. IAR 202: Matt Jones
URL:https://cas.uncg.edu/event/iarc-department-crit-week/
LOCATION:UNCG Gatewood Studio Arts Building\, 527 Highland Ave\, Greensboro\, NC\, 27412\, United States
ATTACH;FMTTYPE=image/png:https://cas.uncg.edu/wp-content/uploads/2026/04/Crit-Week-Social-Cards-1_Lauren-Matlosz.png
ORGANIZER;CN="Department of Interior Architecture":MAILTO:iarc@uncg.edu
END:VEVENT
BEGIN:VEVENT
DTSTART;TZID=America/New_York:20260424T120000
DTEND;TZID=America/New_York:20260424T120000
DTSTAMP:20260421T165545
CREATED:20260415T144748Z
LAST-MODIFIED:20260415T154026Z
UID:10000716-1777032000-1777032000@cas.uncg.edu
SUMMARY:Virtual Discussion: The Long History behind the US-Israeli War with Iran
DESCRIPTION:Join the Humanities Network and Consortium for a timely virtual discussion\, “The Long History behind the US-Israeli War with Iran\,” exploring the historical roots of tensions between Israel\, the United States\, and Iran.  \n\n\n\nIn this installment of the Roots of Our Time series\, Dr. Muntazir Ali (Liberal & Professional Studies) and Dr. David Wight (History) will provide context\, insight\, and analysis on the complex political and historical forces shaping current conflicts. \n\n\n\nThis event will take place on Friday\, April 24 at 12 p.m. via Microsoft Teams: https://go.uncg.edu/roots_thelonghistory.
URL:https://cas.uncg.edu/event/virtual-discussion-the-long-history-behind-the-us-israeli-war-with-iran/
ATTACH;FMTTYPE=image/png:https://cas.uncg.edu/wp-content/uploads/2026/04/2026-04-hnac-event.png
ORGANIZER;CN="UNCG Humanities Network & Consortium":MAILTO:hnac@uncg.edu
END:VEVENT
BEGIN:VEVENT
DTSTART;TZID=America/New_York:20260424T150000
DTEND;TZID=America/New_York:20260424T170000
DTSTAMP:20260421T165545
CREATED:20260312T234031Z
LAST-MODIFIED:20260312T234035Z
UID:10000696-1777042800-1777050000@cas.uncg.edu
SUMMARY:CAS Book Club: "Evicted" (Part III)
DESCRIPTION:The College of Arts and Sciences Belonging\, Opportunity\, and Wellbeing Committee is pleased to host its first CAS Book Club in spring 2026. \n\n\n\nOver two afternoons (Friday\, March 27 and Friday\, April 24\, both from 3-5pm in Foust 206)\, we will be discussing Matthew Desmond’s “Evicted: Poverty and Profit in the American City.”  \n\n\n\nThese events are open to all faculty\, staff\, and students\, and will feature facilitated discussion and guest speakers. If you need a copy of the book\, you can read Evicted as an ebook through UNCG libraries.We ask that you RSVP for these events so that we can get an accurate count of attendees for space and refreshments (coffee and pastries).  \n\n\n\nEvent schedule:Friday\, March 27\, 3-5pm\, Foust 206: Evicted\, Parts I–IIFriday\, April 24\, 3-5pm\, Foust 206: Evicted\, Part III \n\n\n\n\n\n\n\n\n\n\nRSVP Here!
URL:https://cas.uncg.edu/event/cas-book-club-evicted-part-iii/
LOCATION:Foust Building\, 1010 Administration Dr\, Greensboro\, NC\, 27412\, United States
CATEGORIES:CAS Book Club
ATTACH;FMTTYPE=image/png:https://cas.uncg.edu/wp-content/uploads/2026/03/CAS-book-club-featured-image.png
END:VEVENT
BEGIN:VEVENT
DTSTART;TZID=America/New_York:20260430T140000
DTEND;TZID=America/New_York:20260430T160000
DTSTAMP:20260421T165545
CREATED:20260406T183837Z
LAST-MODIFIED:20260406T184303Z
UID:10000712-1777557600-1777564800@cas.uncg.edu
SUMMARY:College of Arts & Sciences Annual End-of-Year Celebration
DESCRIPTION:The College of Arts & Sciences cordially invites our Faculty and Staff to the annual CAS End-of-Year Celebration \n\n\n\nThursday\, April 30 2 – 4 p.m.Cone Ballroom\, EUC \n\n\n\nJoin us in celebrating this year’s honorees:  \n\n\n\n\n\nRetirees\n\n\n\n\nDavid Wharton (Ancient Mediterranean Studies & Archaeology) – 37 years\n\n\n\nJonathan Zarecki (Ancient Mediterranean Studies & Archaeology) – 20 years\n\n\n\nPatty Booker (Biology) – 28 years\n\n\n\nMegan Corum (Biology) – 30 years\n\n\n\nNancy Bucknall (CASA) – 32 years\n\n\n\nAmy Adamson (CAS Dean’s Office) – 25 years\n\n\n\nCathy Payne (CAS Dean’s Office) – 22 years\n\n\n\nAlice Haddy (Chemistry & Biochemistry) – 32 years\n\n\n\nJennifer Keith (English) – 29 years\n\n\n\nLisa Tolbert (History) – 32 years\n\n\n\nTatia Beal (Languages\, Literatures\, & Cultures) – 26 years\n\n\n\nEdward Hellen (Physics & Astronomy) – 32 years\n\n\n\nPromod Pratap (Physics & Astronomy) – 32 years\n\n\n\n\n\n\nCollege Teaching Excellence Awards\n\n\n\n\nSenior: Jeffrey Kaplan (Philosophy)\n\n\n\nJunior: Ron Belmont (Physics & Astronomy)\n\n\n\nProfessional Track: Heather Rushforth (Biology)\n\n\n\n\nCollege Staff Excellence Awards\n\n\n\n\nPaul Hidalgo (Biology)\n\n\n\nCaitlin Saraphis (CASA)\n\n\n\nDenise Greenwell (Mathematics & Statistics)\n\n\n\n\nCollege Excellence in Advising Awards\n\n\n\n\nChristine Flood (History)\n\n\n\nJeff Colbert (Political Science)\n\n\n\n\nService Awards\n\n\n\nService pins for 15-40 years will be presented by the Dean. \n\n\n\nService pins for 5-10 years will be presented by department heads (to be determined by department head). \n\n\n\n\n\nWe will also honor those CAS faculty who received a University-wide award this year. \n\n\n\nWe hope you will join us for this special occasion! 
URL:https://cas.uncg.edu/event/cas-end-of-year-celebration-2026/
LOCATION:EUC Cone Ballroom\, 507 Stirling St\, Greensboro\, North Carolina\, 27412\, United States
ATTACH;FMTTYPE=image/png:https://cas.uncg.edu/wp-content/uploads/2025/04/EOY-Celebration-Graphic-4-2025.png
END:VEVENT
BEGIN:VEVENT
DTSTART;TZID=America/New_York:20260502T150000
DTEND;TZID=America/New_York:20260502T150000
DTSTAMP:20260421T165545
CREATED:20260413T154849Z
LAST-MODIFIED:20260413T154853Z
UID:10000715-1777734000-1777734000@cas.uncg.edu
SUMMARY:Minerva Media Festival
DESCRIPTION:
URL:https://mediastudies.uncg.edu/event/minerva-media-festival-2/#new_tab
LOCATION:Jarrell Hall (lower level of Jackson Library)\, 320 College Avenue\, Greensboro\, NC\, 27412\, United States
CATEGORIES:Media Studies
ATTACH;FMTTYPE=image/png:https://cas.uncg.edu/wp-content/uploads/2026/04/minerva-media-festival.png
ORGANIZER;CN="UNCG Media Studies Department":MAILTO:media_studies@uncg.edu
END:VEVENT
END:VCALENDAR