BEGIN:VCALENDAR
VERSION:2.0
PRODID:-//College of Arts &amp; Sciences - ECPv6.15.20//NONSGML v1.0//EN
CALSCALE:GREGORIAN
METHOD:PUBLISH
X-WR-CALNAME:College of Arts &amp; Sciences
X-ORIGINAL-URL:https://cas.uncg.edu
X-WR-CALDESC:Events for College of Arts &amp; Sciences
REFRESH-INTERVAL;VALUE=DURATION:PT1H
X-Robots-Tag:noindex
X-PUBLISHED-TTL:PT1H
BEGIN:VTIMEZONE
TZID:America/New_York
BEGIN:DAYLIGHT
TZOFFSETFROM:-0500
TZOFFSETTO:-0400
TZNAME:EDT
DTSTART:20250309T070000
END:DAYLIGHT
BEGIN:STANDARD
TZOFFSETFROM:-0400
TZOFFSETTO:-0500
TZNAME:EST
DTSTART:20251102T060000
END:STANDARD
BEGIN:DAYLIGHT
TZOFFSETFROM:-0500
TZOFFSETTO:-0400
TZNAME:EDT
DTSTART:20260308T070000
END:DAYLIGHT
BEGIN:STANDARD
TZOFFSETFROM:-0400
TZOFFSETTO:-0500
TZNAME:EST
DTSTART:20261101T060000
END:STANDARD
BEGIN:DAYLIGHT
TZOFFSETFROM:-0500
TZOFFSETTO:-0400
TZNAME:EDT
DTSTART:20270314T070000
END:DAYLIGHT
BEGIN:STANDARD
TZOFFSETFROM:-0400
TZOFFSETTO:-0500
TZNAME:EST
DTSTART:20271107T060000
END:STANDARD
END:VTIMEZONE
BEGIN:VEVENT
DTSTART;TZID=America/New_York:20260417T193000
DTEND;TZID=America/New_York:20260417T220000
DTSTAMP:20260423T040021
CREATED:20260324T185633Z
LAST-MODIFIED:20260324T185637Z
UID:10000704-1776454200-1776463200@cas.uncg.edu
SUMMARY:Annual Star Party at the Three College Observatory
DESCRIPTION:
URL:https://physics.uncg.edu/tco/public-nights/statewide-star-party-at-the-three-college-observatory/#new_tab
LOCATION:Three College Observatory\, 5106 Thompson Mill Road\, Graham\, North Carolina\, 27253\, United States
CATEGORIES:Science Everywhere
ATTACH;FMTTYPE=image/jpeg:https://cas.uncg.edu/wp-content/uploads/2019/01/010719_Feature_Observatory.jpg
END:VEVENT
END:VCALENDAR