BEGIN:VCALENDAR
VERSION:2.0
PRODID:-//College of Arts &amp; Sciences - ECPv6.15.20//NONSGML v1.0//EN
CALSCALE:GREGORIAN
METHOD:PUBLISH
X-WR-CALNAME:College of Arts &amp; Sciences
X-ORIGINAL-URL:https://cas.uncg.edu
X-WR-CALDESC:Events for College of Arts &amp; Sciences
REFRESH-INTERVAL;VALUE=DURATION:PT1H
X-Robots-Tag:noindex
X-PUBLISHED-TTL:PT1H
BEGIN:VTIMEZONE
TZID:America/New_York
BEGIN:DAYLIGHT
TZOFFSETFROM:-0500
TZOFFSETTO:-0400
TZNAME:EDT
DTSTART:20220313T070000
END:DAYLIGHT
BEGIN:STANDARD
TZOFFSETFROM:-0400
TZOFFSETTO:-0500
TZNAME:EST
DTSTART:20221106T060000
END:STANDARD
BEGIN:DAYLIGHT
TZOFFSETFROM:-0500
TZOFFSETTO:-0400
TZNAME:EDT
DTSTART:20230312T070000
END:DAYLIGHT
BEGIN:STANDARD
TZOFFSETFROM:-0400
TZOFFSETTO:-0500
TZNAME:EST
DTSTART:20231105T060000
END:STANDARD
BEGIN:DAYLIGHT
TZOFFSETFROM:-0500
TZOFFSETTO:-0400
TZNAME:EDT
DTSTART:20240310T070000
END:DAYLIGHT
BEGIN:STANDARD
TZOFFSETFROM:-0400
TZOFFSETTO:-0500
TZNAME:EST
DTSTART:20241103T060000
END:STANDARD
BEGIN:DAYLIGHT
TZOFFSETFROM:-0500
TZOFFSETTO:-0400
TZNAME:EDT
DTSTART:20250309T070000
END:DAYLIGHT
BEGIN:STANDARD
TZOFFSETFROM:-0400
TZOFFSETTO:-0500
TZNAME:EST
DTSTART:20251102T060000
END:STANDARD
BEGIN:DAYLIGHT
TZOFFSETFROM:-0500
TZOFFSETTO:-0400
TZNAME:EDT
DTSTART:20260308T070000
END:DAYLIGHT
BEGIN:STANDARD
TZOFFSETFROM:-0400
TZOFFSETTO:-0500
TZNAME:EST
DTSTART:20261101T060000
END:STANDARD
END:VTIMEZONE
BEGIN:VEVENT
DTSTART;TZID=America/New_York:20251003T080000
DTEND;TZID=America/New_York:20251003T180000
DTSTAMP:20260421T153951
CREATED:20250923T155400Z
LAST-MODIFIED:20250923T155404Z
UID:10000653-1759478400-1759514400@cas.uncg.edu
SUMMARY:Public Republic
DESCRIPTION:
URL:https://philosophy.uncg.edu/event/seventh-annual-public-republic/
LOCATION:The Lawn Between College Ave. by the Minerva Statue & the Elliot University Center (EUC)\, Greensboro\, North Carolina\, 27403\, United States
ATTACH;FMTTYPE=image/jpeg:https://cas.uncg.edu/wp-content/uploads/2023/09/PIC21148_All_day_Republic-11-scaled.jpg
END:VEVENT
BEGIN:VEVENT
DTSTART;TZID=America/New_York:20230922T080000
DTEND;TZID=America/New_York:20230922T180000
DTSTAMP:20260421T153951
CREATED:20230830T193120Z
LAST-MODIFIED:20230831T200109Z
UID:10000027-1695369600-1695405600@cas.uncg.edu
SUMMARY:5th Annual Public Republic
DESCRIPTION:Public Republic is an all-day public reading of the entirety of Republic\, Plato’s famous treatise on Justice. \n\n\n\nEach of the ten books of this dialogue will be read out loud\, preferably with dramatic flair\, by volunteer readers.  \n\n\n\nEveryone is welcome – those willing to read\, those who would prefer to listen\, those who can only stay for a bit\, and those who are interested in trying to hang in there for the whole thing.  \n\n\n\nLearn more including how to sign-up here.
URL:https://cas.uncg.edu/event/5th-annual-public-republic/
LOCATION:The Lawn Between College Ave. by the Minerva Statue & the Elliot University Center (EUC)\, Greensboro\, North Carolina\, 27403\, United States
ATTACH;FMTTYPE=image/jpeg:https://cas.uncg.edu/wp-content/uploads/2023/08/PR-publicity-image._1-Adam-Rosenfeld-7.jpg
END:VEVENT
END:VCALENDAR