BEGIN:VCALENDAR
VERSION:2.0
PRODID:-//College of Arts &amp; Sciences - ECPv6.15.20//NONSGML v1.0//EN
CALSCALE:GREGORIAN
METHOD:PUBLISH
X-ORIGINAL-URL:https://cas.uncg.edu
X-WR-CALDESC:Events for College of Arts &amp; Sciences
REFRESH-INTERVAL;VALUE=DURATION:PT1H
X-Robots-Tag:noindex
X-PUBLISHED-TTL:PT1H
BEGIN:VTIMEZONE
TZID:America/New_York
BEGIN:DAYLIGHT
TZOFFSETFROM:-0500
TZOFFSETTO:-0400
TZNAME:EDT
DTSTART:20220313T070000
END:DAYLIGHT
BEGIN:STANDARD
TZOFFSETFROM:-0400
TZOFFSETTO:-0500
TZNAME:EST
DTSTART:20221106T060000
END:STANDARD
BEGIN:DAYLIGHT
TZOFFSETFROM:-0500
TZOFFSETTO:-0400
TZNAME:EDT
DTSTART:20230312T070000
END:DAYLIGHT
BEGIN:STANDARD
TZOFFSETFROM:-0400
TZOFFSETTO:-0500
TZNAME:EST
DTSTART:20231105T060000
END:STANDARD
BEGIN:DAYLIGHT
TZOFFSETFROM:-0500
TZOFFSETTO:-0400
TZNAME:EDT
DTSTART:20240310T070000
END:DAYLIGHT
BEGIN:STANDARD
TZOFFSETFROM:-0400
TZOFFSETTO:-0500
TZNAME:EST
DTSTART:20241103T060000
END:STANDARD
END:VTIMEZONE
BEGIN:VEVENT
DTSTART;TZID=America/New_York:20230923T120000
DTEND;TZID=America/New_York:20230923T160000
DTSTAMP:20260423T085447
CREATED:20230907T163921Z
LAST-MODIFIED:20230912T163326Z
UID:10000297-1695470400-1695484800@cas.uncg.edu
SUMMARY:The First UNCG Asian Autumn Outdoor Games Festival
DESCRIPTION:Scenes from a previous UNCG Asian Autumn Festival\n\n\n\nEach year\, UNC Greensboro celebrates the rich diversity of East and Southeast Asian cultures through its Asian Autumn Festival. \n\n\n\nThis year\, everyone is invited to the first Asian Autumn Outdoor Games Festival\, focusing on outdoor sports and games for friends and families to enjoy. Join UNCG on the Kaplan Commons lawn outside of the Elliott University Center (EUC) for a day of activities for all ages! \n\n\n\nLed by UNCG’s Chinese Studies program\, this festival brings together many UNCG organizations\, including: \n\n\n\n\nChinese Culture and Language Association\n\n\n\nVietnamese Student Association\n\n\n\nKappa Phi Lambda Sorority Inc.\n\n\n\nInternational Student Association\n\n\n\nKorean Student Association\n\n\n\nStudents of Caribbean Ancestry\n\n\n\nThe Martial Arts Club.\n\n\n\n\nThis event is free and open to the public. There is free parking. Read more about the event here! \n\n\n\nThis event is sponsored by the Department of Languages\, Literatures\, and Cultures and the Office of Intercultural Engagement.  \n\n\n\nContact Dr. Meiqing Sun at m_sun@uncg.edu with any questions.
URL:https://cas.uncg.edu/event/the-first-uncg-asian-autumn-outdoor-games-festival/
LOCATION:The Elliot University Center (EUC) Kaplan Commons Lawn\, Forest St\, Greensboro\, North Carolina\, 27407\, United States
ATTACH;FMTTYPE=image/png:https://cas.uncg.edu/wp-content/uploads/2023/09/Asian-Autumn-Collage.png
ORGANIZER;CN="The Chinese Studies Program in the Department of Languages%2C Literatures%2C and Cultures":MAILTO:llc_info@uncg.edu
END:VEVENT
END:VCALENDAR