BEGIN:VCALENDAR
VERSION:2.0
PRODID:-//College of Arts &amp; Sciences - ECPv6.15.20//NONSGML v1.0//EN
CALSCALE:GREGORIAN
METHOD:PUBLISH
X-ORIGINAL-URL:https://cas.uncg.edu
X-WR-CALDESC:Events for College of Arts &amp; Sciences
REFRESH-INTERVAL;VALUE=DURATION:PT1H
X-Robots-Tag:noindex
X-PUBLISHED-TTL:PT1H
BEGIN:VTIMEZONE
TZID:America/New_York
BEGIN:DAYLIGHT
TZOFFSETFROM:-0500
TZOFFSETTO:-0400
TZNAME:EDT
DTSTART:20230312T070000
END:DAYLIGHT
BEGIN:STANDARD
TZOFFSETFROM:-0400
TZOFFSETTO:-0500
TZNAME:EST
DTSTART:20231105T060000
END:STANDARD
BEGIN:DAYLIGHT
TZOFFSETFROM:-0500
TZOFFSETTO:-0400
TZNAME:EDT
DTSTART:20240310T070000
END:DAYLIGHT
BEGIN:STANDARD
TZOFFSETFROM:-0400
TZOFFSETTO:-0500
TZNAME:EST
DTSTART:20241103T060000
END:STANDARD
BEGIN:DAYLIGHT
TZOFFSETFROM:-0500
TZOFFSETTO:-0400
TZNAME:EDT
DTSTART:20250309T070000
END:DAYLIGHT
BEGIN:STANDARD
TZOFFSETFROM:-0400
TZOFFSETTO:-0500
TZNAME:EST
DTSTART:20251102T060000
END:STANDARD
END:VTIMEZONE
BEGIN:VEVENT
DTSTART;TZID=America/New_York:20240919T123000
DTEND;TZID=America/New_York:20240919T134500
DTSTAMP:20260419T133242
CREATED:20240823T211427Z
LAST-MODIFIED:20240824T200023Z
UID:10000474-1726749000-1726753500@cas.uncg.edu
SUMMARY:Translating Holocaust Memory
DESCRIPTION:Join curator Adina Langer and composer Laurence Sherr for an illuminating conversation on how the Holocaust’s legacy is preserved and shared through art and literature. Within this public event\, they’ll explore how witnessing\, preserving\, and translating these powerful stories—through curation\, composition\, and performance—help build bridges across cultures and generations.
URL:https://cas.uncg.edu/event/translating-holocaust-memory/
LOCATION:UNCG Bryan Building\, 516 Stirling St.\, Greensboro\, NC\, 27403\, United States
ATTACH;FMTTYPE=image/jpeg:https://cas.uncg.edu/wp-content/uploads/2024/08/wmm-2_Ignacio-Lopez.jpg
END:VEVENT
END:VCALENDAR