BEGIN:VCALENDAR
VERSION:2.0
PRODID:-//College of Arts &amp; Sciences - ECPv6.15.20//NONSGML v1.0//EN
CALSCALE:GREGORIAN
METHOD:PUBLISH
X-WR-CALNAME:College of Arts &amp; Sciences
X-ORIGINAL-URL:https://cas.uncg.edu
X-WR-CALDESC:Events for College of Arts &amp; Sciences
REFRESH-INTERVAL;VALUE=DURATION:PT1H
X-Robots-Tag:noindex
X-PUBLISHED-TTL:PT1H
BEGIN:VTIMEZONE
TZID:America/New_York
BEGIN:DAYLIGHT
TZOFFSETFROM:-0500
TZOFFSETTO:-0400
TZNAME:EDT
DTSTART:20240310T070000
END:DAYLIGHT
BEGIN:STANDARD
TZOFFSETFROM:-0400
TZOFFSETTO:-0500
TZNAME:EST
DTSTART:20241103T060000
END:STANDARD
BEGIN:DAYLIGHT
TZOFFSETFROM:-0500
TZOFFSETTO:-0400
TZNAME:EDT
DTSTART:20250309T070000
END:DAYLIGHT
BEGIN:STANDARD
TZOFFSETFROM:-0400
TZOFFSETTO:-0500
TZNAME:EST
DTSTART:20251102T060000
END:STANDARD
BEGIN:DAYLIGHT
TZOFFSETFROM:-0500
TZOFFSETTO:-0400
TZNAME:EDT
DTSTART:20260308T070000
END:DAYLIGHT
BEGIN:STANDARD
TZOFFSETFROM:-0400
TZOFFSETTO:-0500
TZNAME:EST
DTSTART:20261101T060000
END:STANDARD
END:VTIMEZONE
BEGIN:VEVENT
DTSTART;TZID=America/New_York:20250327T183000
DTEND;TZID=America/New_York:20250327T210000
DTSTAMP:20260421T150010
CREATED:20250226T010901Z
LAST-MODIFIED:20250226T010904Z
UID:10000577-1743100200-1743109200@cas.uncg.edu
SUMMARY:International Human Rights Film Series: "Come and See"
DESCRIPTION:Experience one of the greatest anti-war films of all time at the UNCG International Human Rights Film Series screening of Come and See (Idi i smotri\, 1985). Blending surrealism and hyper-realism\, this powerful Soviet film portrays the brutal realities of Nazi atrocities in Belarus during WWII. Film historian Samm Deighan\, author of The Legacy of World War II in European Arthouse Cinema\, will introduce the film and lead a post-screening discussion. This event is free and open to the public.
URL:https://cas.uncg.edu/event/international-human-rights-film-series-come-and-see/
LOCATION:School of Education Building\, 1300 Spring Garden St\, Greensboro\, NC\, 27412\, United States
ATTACH;FMTTYPE=image/jpeg:https://cas.uncg.edu/wp-content/uploads/2025/02/HRRN-Come-and-See_2025_Michael-Broache-scaled.jpg
END:VEVENT
END:VCALENDAR