BEGIN:VCALENDAR
VERSION:2.0
PRODID:-//College of Arts &amp; Sciences - ECPv6.15.20//NONSGML v1.0//EN
CALSCALE:GREGORIAN
METHOD:PUBLISH
X-WR-CALNAME:College of Arts &amp; Sciences
X-ORIGINAL-URL:https://cas.uncg.edu
X-WR-CALDESC:Events for College of Arts &amp; Sciences
REFRESH-INTERVAL;VALUE=DURATION:PT1H
X-Robots-Tag:noindex
X-PUBLISHED-TTL:PT1H
BEGIN:VTIMEZONE
TZID:America/New_York
BEGIN:DAYLIGHT
TZOFFSETFROM:-0500
TZOFFSETTO:-0400
TZNAME:EDT
DTSTART:20250309T070000
END:DAYLIGHT
BEGIN:STANDARD
TZOFFSETFROM:-0400
TZOFFSETTO:-0500
TZNAME:EST
DTSTART:20251102T060000
END:STANDARD
BEGIN:DAYLIGHT
TZOFFSETFROM:-0500
TZOFFSETTO:-0400
TZNAME:EDT
DTSTART:20260308T070000
END:DAYLIGHT
BEGIN:STANDARD
TZOFFSETFROM:-0400
TZOFFSETTO:-0500
TZNAME:EST
DTSTART:20261101T060000
END:STANDARD
BEGIN:DAYLIGHT
TZOFFSETFROM:-0500
TZOFFSETTO:-0400
TZNAME:EDT
DTSTART:20270314T070000
END:DAYLIGHT
BEGIN:STANDARD
TZOFFSETFROM:-0400
TZOFFSETTO:-0500
TZNAME:EST
DTSTART:20271107T060000
END:STANDARD
END:VTIMEZONE
BEGIN:VEVENT
DTSTART;TZID=America/New_York:20260416T110000
DTEND;TZID=America/New_York:20260416T123000
DTSTAMP:20260425T230557
CREATED:20260410T201747Z
LAST-MODIFIED:20260410T202515Z
UID:10000713-1776337200-1776342600@cas.uncg.edu
SUMMARY:Tried-and-True New Ideas about Teaching with (and without) AI: A Participatory Panel-Led Event
DESCRIPTION:Join us in the EUC Dail Room for this panel-led discussion and audience participation event for talking about\, and trying out\, ways to use AI in the classroom – and ways to keep it out. \n\n\n\nA diverse group of panelists will provide concrete examples and suggestions about teaching with and without AI. \n\n\n\nRefreshments will be provided!
URL:https://cas.uncg.edu/event/tried-and-true-new-ideas-about-teaching-with-and-without-ai-a-participatory-panel-led-event/
LOCATION:Elliott University Center (EUC)\, 507 Stirling St\, Greensboro\, NC\, 27412\, United States
CATEGORIES:CAS AI Umbrella
ATTACH;FMTTYPE=image/png:https://cas.uncg.edu/wp-content/uploads/2026/04/Screenshot-2026-04-09-at-11.20.40-AM_Heather-Gert.png
END:VEVENT
END:VCALENDAR