BEGIN:VCALENDAR
VERSION:2.0
PRODID:-//College of Arts &amp; Sciences - ECPv6.15.20//NONSGML v1.0//EN
CALSCALE:GREGORIAN
METHOD:PUBLISH
X-WR-CALNAME:College of Arts &amp; Sciences
X-ORIGINAL-URL:https://cas.uncg.edu
X-WR-CALDESC:Events for College of Arts &amp; Sciences
REFRESH-INTERVAL;VALUE=DURATION:PT1H
X-Robots-Tag:noindex
X-PUBLISHED-TTL:PT1H
BEGIN:VTIMEZONE
TZID:America/New_York
BEGIN:DAYLIGHT
TZOFFSETFROM:-0500
TZOFFSETTO:-0400
TZNAME:EDT
DTSTART:20240310T070000
END:DAYLIGHT
BEGIN:STANDARD
TZOFFSETFROM:-0400
TZOFFSETTO:-0500
TZNAME:EST
DTSTART:20241103T060000
END:STANDARD
BEGIN:DAYLIGHT
TZOFFSETFROM:-0500
TZOFFSETTO:-0400
TZNAME:EDT
DTSTART:20250309T070000
END:DAYLIGHT
BEGIN:STANDARD
TZOFFSETFROM:-0400
TZOFFSETTO:-0500
TZNAME:EST
DTSTART:20251102T060000
END:STANDARD
BEGIN:DAYLIGHT
TZOFFSETFROM:-0500
TZOFFSETTO:-0400
TZNAME:EDT
DTSTART:20260308T070000
END:DAYLIGHT
BEGIN:STANDARD
TZOFFSETFROM:-0400
TZOFFSETTO:-0500
TZNAME:EST
DTSTART:20261101T060000
END:STANDARD
END:VTIMEZONE
BEGIN:VEVENT
DTSTART;TZID=America/New_York:20251117T183000
DTEND;TZID=America/New_York:20251117T200000
DTSTAMP:20260425T193637
CREATED:20250924T132337Z
LAST-MODIFIED:20250924T132818Z
UID:10000659-1763404200-1763409600@cas.uncg.edu
SUMMARY:Samba Drumming Roots Workshop
DESCRIPTION:Ashby Lecture Series Dialogue 5\n\n\n\nSAMBA DRUMMING ROOTS WORKSHOP\n\n\n\nNOvember 17\, 2025 6:30 – 8:00 pm UNCG School of Music\, room 111 \n\n\n\n\n\nSamba Drumming Workshop with Caique Vidal (ka-EE-kee vee-DAHL) \n\n\n\nFeel the rhythm and history of Samba! Caique Vidal faithfully shares the Afro-Brazilian traditions of his Bahia birthplace. An educator and community organizer for the Brazilian diaspora in North Carolina\, Caique rose through Salvador da Bahia’s politically-charged street music scene\, playing with Olodum and spreading samba-reggae rhythms of Black empowerment worldwide—including appearances in a Spike Lee and Michael Jackson music video. Learn Samba’s roots from colonial Bahia and the legacies of slavery to a vibrant Afro-Brazilian cultural expression celebrated globally\, while playing on provided instruments. \n\n\n\nEnjoy refreshments\, hands-on drumming\, and a joyful\, energetic space to move\, connect\, and celebrate Samba together. \n\n\n\n\n\n\n\n \n\n\n\n\n\n\n\n\n\n\nRegister Here!
URL:https://cas.uncg.edu/event/samba-drumming-roots-workshop/
LOCATION:UNCG School of Music\, 100 McIver St\, Greensboro\, NC\, 27412\, United States
CATEGORIES:Ashby Dialogue Series,Samba
ATTACH;FMTTYPE=image/png:https://cas.uncg.edu/wp-content/uploads/2025/09/vidal.png
END:VEVENT
END:VCALENDAR