BEGIN:VCALENDAR
VERSION:2.0
PRODID:-//College of Arts &amp; Sciences - ECPv6.15.20//NONSGML v1.0//EN
CALSCALE:GREGORIAN
METHOD:PUBLISH
X-WR-CALNAME:College of Arts &amp; Sciences
X-ORIGINAL-URL:https://cas.uncg.edu
X-WR-CALDESC:Events for College of Arts &amp; Sciences
REFRESH-INTERVAL;VALUE=DURATION:PT1H
X-Robots-Tag:noindex
X-PUBLISHED-TTL:PT1H
BEGIN:VTIMEZONE
TZID:America/New_York
BEGIN:DAYLIGHT
TZOFFSETFROM:-0500
TZOFFSETTO:-0400
TZNAME:EDT
DTSTART:20240310T070000
END:DAYLIGHT
BEGIN:STANDARD
TZOFFSETFROM:-0400
TZOFFSETTO:-0500
TZNAME:EST
DTSTART:20241103T060000
END:STANDARD
BEGIN:DAYLIGHT
TZOFFSETFROM:-0500
TZOFFSETTO:-0400
TZNAME:EDT
DTSTART:20250309T070000
END:DAYLIGHT
BEGIN:STANDARD
TZOFFSETFROM:-0400
TZOFFSETTO:-0500
TZNAME:EST
DTSTART:20251102T060000
END:STANDARD
BEGIN:DAYLIGHT
TZOFFSETFROM:-0500
TZOFFSETTO:-0400
TZNAME:EDT
DTSTART:20260308T070000
END:DAYLIGHT
BEGIN:STANDARD
TZOFFSETFROM:-0400
TZOFFSETTO:-0500
TZNAME:EST
DTSTART:20261101T060000
END:STANDARD
END:VTIMEZONE
BEGIN:VEVENT
DTSTART;TZID=America/New_York:20251016T170000
DTEND;TZID=America/New_York:20251016T183000
DTSTAMP:20260420T174728
CREATED:20250924T124725Z
LAST-MODIFIED:20250924T130852Z
UID:10000656-1760634000-1760639400@cas.uncg.edu
SUMMARY:Making Samba: A New History of Race and Music in Brazil
DESCRIPTION:Ashby Lecture Series Dialogue 2\n\n\n\nMAKING SAMBA: A New History of Race and Music in Brazil\n\n\n\nOctober 16\, 20255:00 – 6:30 pmONLINE – Webinar requires registration\n\n\n\n\n\nBook author talk and Q&A\n\n\n\nJoin us online for a special author talk with Dr. Marc A. Hertzman on his book Making Samba. We’ll revisit the story of Donga’s “Pelo Telefone” (1916) and the controversies that reshaped Brazilian music\, race\, and national identity. The conversation will be mediated by Dr. Ana Paula Höfling (UNCG Dance Department)\, with space for dialogue and Q&A. \n\n\n\n\n\n\n\nThe book: https://www.dukeupress.edu/making-samba \n\n\n\n\n\n\n\n\n\n\nRegister Here!
URL:https://cas.uncg.edu/event/making-samba-a-new-history-of-race-and-music-in-brazil/
LOCATION:NC
CATEGORIES:Ashby Dialogue Series,Samba
ATTACH;FMTTYPE=image/png:https://cas.uncg.edu/wp-content/uploads/2025/09/making-samba-book-cover.png
END:VEVENT
END:VCALENDAR