BEGIN:VCALENDAR
VERSION:2.0
PRODID:-//College of Arts &amp; Sciences - ECPv6.15.20//NONSGML v1.0//EN
CALSCALE:GREGORIAN
METHOD:PUBLISH
X-WR-CALNAME:College of Arts &amp; Sciences
X-ORIGINAL-URL:https://cas.uncg.edu
X-WR-CALDESC:Events for College of Arts &amp; Sciences
REFRESH-INTERVAL;VALUE=DURATION:PT1H
X-Robots-Tag:noindex
X-PUBLISHED-TTL:PT1H
BEGIN:VTIMEZONE
TZID:America/New_York
BEGIN:DAYLIGHT
TZOFFSETFROM:-0500
TZOFFSETTO:-0400
TZNAME:EDT
DTSTART:20240310T070000
END:DAYLIGHT
BEGIN:STANDARD
TZOFFSETFROM:-0400
TZOFFSETTO:-0500
TZNAME:EST
DTSTART:20241103T060000
END:STANDARD
BEGIN:DAYLIGHT
TZOFFSETFROM:-0500
TZOFFSETTO:-0400
TZNAME:EDT
DTSTART:20250309T070000
END:DAYLIGHT
BEGIN:STANDARD
TZOFFSETFROM:-0400
TZOFFSETTO:-0500
TZNAME:EST
DTSTART:20251102T060000
END:STANDARD
BEGIN:DAYLIGHT
TZOFFSETFROM:-0500
TZOFFSETTO:-0400
TZNAME:EDT
DTSTART:20260308T070000
END:DAYLIGHT
BEGIN:STANDARD
TZOFFSETFROM:-0400
TZOFFSETTO:-0500
TZNAME:EST
DTSTART:20261101T060000
END:STANDARD
END:VTIMEZONE
BEGIN:VEVENT
DTSTART;TZID=America/New_York:20251002T170000
DTEND;TZID=America/New_York:20251002T190000
DTSTAMP:20260422T082627
CREATED:20250910T202306Z
LAST-MODIFIED:20250930T194649Z
UID:10000649-1759424400-1759431600@cas.uncg.edu
SUMMARY:Samba\, Embodiment\, and Representation
DESCRIPTION:Ashby Lecture Series Dialogue 1:Samba\, Embodiment\, and Representation\n\n\n\nOctober 2\, 20255:00 – 7:00 pmOffice of Intercultural Engagement (OIE)Elliott University Center 062\n\n\n\n\n\nFilm screening\, refreshments\, and dialogue\n\n\n\nJoin us for an evening of film\, history\, and conversation on Samba’s cultural and political legacy. We’ll screen a feature on a 1950s Samba composer\, followed by an introduction to the first chapter of Mark Hertzman’s Making Samba. \n\n\n\nRefreshments will be served\, and the event will close with an open dialogue space for reflection and exchange. \n\n\n\nRecommended reading: Hertzman\, M. A. (2013). Making Samba: A New History of Race and Music in Brazil. Duke University Press. \n\n\n\nReading chapter 1 will enhance our conversation\, but it is not required. \n\n\n\n\n\nStill from Rio North Zone\, Nelson Pereira dos Santos (1957)\n\n\n\n\nRegister Here!
URL:https://cas.uncg.edu/event/samba-embodiment-and-representation/
LOCATION:Elliott University Center (EUC)\, 507 Stirling St\, Greensboro\, NC\, 27412\, United States
CATEGORIES:Ashby Dialogue Series,Samba
ATTACH;FMTTYPE=image/jpeg:https://cas.uncg.edu/wp-content/uploads/2025/09/samba-bw-dancing.jpg
END:VEVENT
END:VCALENDAR